BEGIN:VCALENDAR
PRODID:-//Session events Calendar//IBA//EN
CALSCALE:GREGORIAN
VERSION:2.0
BEGIN:VEVENT
DTSTAMP:20260420T151409Z
DTSTART:20240312T091500Z
DTEND:20240312T094500Z
SUMMARY:Insurance market update 
DESCRIPTION:Overview of key developments\, market trends and pivotal indi
 cators affecting the insurance market in the last 12 months.
LOCATION:
UID:dc13f9aa-e3c9-4154-b3a8-82f6f554606e
END:VEVENT
END:VCALENDAR
