BEGIN:VCALENDAR
PRODID:-//Session events Calendar//IBA//EN
CALSCALE:GREGORIAN
VERSION:2.0
BEGIN:VEVENT
DTSTAMP:20260421T020539Z
DTSTART:20240312T101500Z
DTEND:20240312T105500Z
SUMMARY:M&A insurance trends
DESCRIPTION:Insights into the latest trends\, challenges and risk mitigat
 ion strategies associated with M&amp\;A transactions in insurance.\n
LOCATION:
UID:62fa1059-fdc1-4f4e-82d4-32e0e5df55af
END:VEVENT
END:VCALENDAR
