BEGIN:VCALENDAR
PRODID:-//Session events Calendar//IBA//EN
CALSCALE:GREGORIAN
VERSION:2.0
BEGIN:VEVENT
DTSTAMP:20260420T151408Z
DTSTART:20240312T121500Z
DTEND:20240312T130000Z
SUMMARY:Transactional risk insurance global update
DESCRIPTION:Overview of main developments and trends in the underwriting 
 of transactional risk insurance in Europe\, Latin America and US over th
 e last 12 months.\n
LOCATION:
UID:dced8cef-3fa1-4a8f-914b-61c3cdf3231e
END:VEVENT
END:VCALENDAR
