BEGIN:VCALENDAR
PRODID:-//Session events Calendar//IBA//EN
CALSCALE:GREGORIAN
VERSION:2.0
BEGIN:VEVENT
DTSTAMP:20260420T215312Z
DTSTART:20240312T144500Z
DTEND:20240312T153000Z
SUMMARY:Managing general agents (MGAs)
DESCRIPTION:Overview of the business and development of MGAs across the g
 lobe.\n
LOCATION:
UID:739a9402-3204-44e7-bdd4-e83c9074bcae
END:VEVENT
END:VCALENDAR
