BEGIN:VCALENDAR
PRODID:-//Session events Calendar//IBA//EN
CALSCALE:GREGORIAN
VERSION:2.0
BEGIN:VEVENT
DTSTAMP:20260426T015716Z
DTSTART:20240917T221500Z
DTEND:20240917T233000Z
SUMMARY:Green lending without greenwashing: responsible finance and ESG
DESCRIPTION:The session will explore corporate and project finance in Lat
 in America and the Global South through a lens of environmental\, social
  and governance (ESG) legal frameworks that mitigate risk while creating
  a positive global impact within corporate value chains. We will discuss
  how to best guide our clients in being profitable while staying on the 
 side of the law\, reporting authentically and doing some good in the wor
 ld.
LOCATION:PALACIO DE CANAL 6\, LEVEL E1
UID:201301c7-61b2-4def-bce3-379f7edfbe1f
END:VEVENT
END:VCALENDAR
