BEGIN:VCALENDAR
PRODID:-//Session events Calendar//IBA//EN
CALSCALE:GREGORIAN
VERSION:2.0
BEGIN:VEVENT
DTSTAMP:20260420T181002Z
DTSTART:20240917T203000Z
DTEND:20240917T214500Z
SUMMARY:Getting sellers ready: strategies for closely held companies
DESCRIPTION:This session will cover:\n\n\n• Assessing the value of closel
 y held businesses\;\n• identifying and addressing operational\, governan
 ce and regulatory issues\;\n• finding the most appropriate deal structur
 e\;\n• the role of technology in preparing for a sale\;\n• transitioning
  ownership and leadership\;\n• getting prepared for buyer scrutiny\; and
 \n• anticipating post-sale integration issues.\n
LOCATION:PALACIO DE INTURBIDE 2 + 3\, LEVEL E1
UID:1e8a797b-9ad1-4a42-b5e0-3676662e4205
END:VEVENT
END:VCALENDAR
