BEGIN:VCALENDAR
PRODID:-//Session events Calendar//IBA//EN
CALSCALE:GREGORIAN
VERSION:2.0
BEGIN:VEVENT
DTSTAMP:20260420T215312Z
DTSTART:20240313T100000Z
DTEND:20240313T104000Z
SUMMARY:Arbitration in insurance
DESCRIPTION:Discussion about arbitration processes within the insurance i
 ndustry\, shedding light on its role in dispute resolution and its impli
 cations for insurance and reinsurance companies.\n
LOCATION:
UID:0c69dfd1-9af3-42b4-bb63-f699caab523c
END:VEVENT
END:VCALENDAR
