BEGIN:VCALENDAR
PRODID:-//Session events Calendar//IBA//EN
CALSCALE:GREGORIAN
VERSION:2.0
BEGIN:VEVENT
DTSTAMP:20260421T015237Z
DTSTART:20240313T110000Z
DTEND:20240313T114000Z
SUMMARY:Regulatory global update
DESCRIPTION:Analysis of the most relevant regulatory developments and con
 siderations impacting the insurance industry.
LOCATION:
UID:3e9e519d-47a6-46cb-8669-c1cd9ba14ed3
END:VEVENT
END:VCALENDAR
