BEGIN:VCALENDAR
PRODID:-//Session events Calendar//IBA//EN
CALSCALE:GREGORIAN
VERSION:2.0
BEGIN:VEVENT
DTSTAMP:20260424T085530Z
DTSTART:20240916T221500Z
DTEND:20240916T233000Z
SUMMARY:10 ways for closely held companies to raise capital in today's ma
 rket
DESCRIPTION:This session will discuss several options potentially availab
 le to private companies seeking funding in a tough venture market.\n\nDi
 scussions will include\;\n\n\n	Debt financing\;\n	Angel investors\;\n	Cr
 owdfunding\;\n	Insider bridge rounds\;\n	Sale of assets\;\n	The possible
  impact of such options on future equity rounds\;\n	Alternative sources 
 of private capital including private equity\;\n	And family office fundin
 g for more established closely held companies. \n\n
LOCATION:PALACIO DE CANAL 10\, LEVEL E1
UID:3a9d50da-9bcc-4769-ab8a-3bc596bcaad4
END:VEVENT
END:VCALENDAR
