BEGIN:VCALENDAR
PRODID:-//Session events Calendar//IBA//EN
CALSCALE:GREGORIAN
VERSION:2.0
BEGIN:VEVENT
DTSTAMP:20260424T115915Z
DTSTART:20240919T171500Z
DTEND:20240919T183000Z
SUMMARY:Carve-outs: an option for closely held companies?
DESCRIPTION:The session will touch on aspects with an impact on structuri
 ng a carve-out involving closely held companies. We will explore:\n\n• T
 he dos and don’ts\;\n• preparing a closely held company for a carve\;\n•
  identifying the deal perimeter\;\n• pro forma financials\;\n• what to c
 onsider aside the law (eg\, IT\, technology\, IP)\;\n• third party inter
 ests to consider (eg\, works council/banks)\;\n• negotiating with counte
 rparties\;\n• and additional agreements (TSA/licensing).\n
LOCATION:CASA MONTEJO 4\, LEVEL S
UID:17a03238-aed2-4147-9d62-b4361015db3b
END:VEVENT
END:VCALENDAR
