BEGIN:VCALENDAR
PRODID:-//Session events Calendar//IBA//EN
CALSCALE:GREGORIAN
VERSION:2.0
BEGIN:VEVENT
DTSTAMP:20260426T032502Z
DTSTART:20240918T203000Z
DTEND:20240918T214500Z
SUMMARY:Asset recovery hot topics: Mexico\, Latin America and the Caribbe
 an in focus
DESCRIPTION:Whether confronting new technologies and asset classes or pie
 cing together the facts in an old-fashioned fraud\, asset recovery exper
 ts must keep abreast of the latest hot topics\, tools and tricks of the 
 trade in this ever-evolving area of practice. This session will bring to
 gether a diverse group of practitioners from Mexico\, Latin America and 
 the Caribbean to discuss the latest hot topics relating to asset recover
 y in 2024 and beyond.
LOCATION:PALACIO DE CANAL 11\, LEVEL E1
UID:3b4cb544-f636-4bf8-b5df-bb0b0de465e2
END:VEVENT
END:VCALENDAR
