BEGIN:VCALENDAR
PRODID:-//Session events Calendar//IBA//EN
CALSCALE:GREGORIAN
VERSION:2.0
BEGIN:VEVENT
DTSTAMP:20260426T015812Z
DTSTART:20240917T221500Z
DTEND:20240917T233000Z
SUMMARY:Default of banks and crypto currency exchanges failures
DESCRIPTION:The panel will analyse causes and consequences of recent bank
 s and crypto-currency exchanges failures.
LOCATION:CASA DEL DIEZMO 1 & 2\, LEVEL S
UID:26fb7e2f-282b-414e-ace1-61c929dcb4ad
END:VEVENT
END:VCALENDAR
