BEGIN:VCALENDAR
PRODID:-//Session events Calendar//IBA//EN
CALSCALE:GREGORIAN
VERSION:2.0
BEGIN:VEVENT
DTSTAMP:20260419T190629Z
DTSTART:20240919T203000Z
DTEND:20240919T214500Z
SUMMARY:Money matters: locked boxes\, completion adjustments and other M&
 A financial issues
DESCRIPTION:In this session\, seasoned mergers and acquisitions (M&amp\;A
 ) experts will share lessons learned regarding financial mechanisms that
  tend to work well in M&amp\;A deals and pitfalls that may be encountere
 d along the way.\n\nThe session will cover issues including:\n• Contract
 ual options for managing changes in the financial condition of a target 
 prior to closing\;\n• pros and cons of these options from buy- and sell-
 side perspectives\;\n• current trends in adjustment mechanisms\; and\n• 
 sample cases illustrating the practical application of different mechani
 sms.\n
LOCATION:CASA DEL DIEZMO 1 & 2\, LEVEL S
UID:3702946f-d41c-4b77-b5f7-edc35c2d6ff8
END:VEVENT
END:VCALENDAR
