BEGIN:VCALENDAR
PRODID:-//Session events Calendar//IBA//EN
CALSCALE:GREGORIAN
VERSION:2.0
BEGIN:VEVENT
DTSTAMP:20260426T015319Z
DTSTART:20240917T221500Z
DTEND:20240917T233000Z
SUMMARY:Jurisdictions and structures used by Latin American families for 
 estate and succession planning
DESCRIPTION:The session will review and give insights on how and where to
  structure wealth\, taking into account the specificities and objectives
  of Latin American families.
LOCATION:PALACIO DE CANAL 5\, LEVEL E1
UID:cb58bf12-3fc5-4f32-b840-f06348d710f5
END:VEVENT
END:VCALENDAR
