BEGIN:VCALENDAR
PRODID:-//Session events Calendar//IBA//EN
CALSCALE:GREGORIAN
VERSION:2.0
BEGIN:VEVENT
DTSTAMP:20260424T201235Z
DTSTART:20240918T171500Z
DTEND:20240918T183000Z
SUMMARY:Planning for cross-border real estate 
DESCRIPTION:Holding real estate in an international environment requires 
 expert planning. The session will give useful advice to all.
LOCATION:CASA MONTEJO 3\, LEVEL S
UID:b8ea5c8a-1168-4533-b53e-c9a24f01d0da
END:VEVENT
END:VCALENDAR
