BEGIN:VCALENDAR
PRODID:-//Session events Calendar//IBA//EN
CALSCALE:GREGORIAN
VERSION:2.0
BEGIN:VEVENT
DTSTAMP:20260424T115915Z
DTSTART:20240917T171500Z
DTEND:20240917T183000Z
SUMMARY:Family governance and structuring for operating businesses
DESCRIPTION:Businesses are at the core of the creation of family weath. H
 ow can the family successfully plan for the best development of the busi
 ness and wealth while keeping an efficient control for the sake of all f
 amily members?
LOCATION:PALACIO DE VALPARAISO 1\, LEVEL E1
UID:0b44535e-3b2d-45b8-a71a-f4416ab3be7a
END:VEVENT
END:VCALENDAR
