BEGIN:VCALENDAR
PRODID:-//Session events Calendar//IBA//EN
CALSCALE:GREGORIAN
VERSION:2.0
BEGIN:VEVENT
DTSTAMP:20260426T032410Z
DTSTART:20240918T203000Z
DTEND:20240918T214500Z
SUMMARY:ESG and the rising tide of greenwashing in international capital 
 markets
DESCRIPTION:The session will look at current trends in environmental\, so
 cial and governance (ESG) topics for public companies and will dive into
  a separate ESG survey. The phenomenon of greenwashing in the internatio
 nal capital markets will also be discussed.
LOCATION:PALACIO DE CANAL 8\, LEVEL E1
UID:f570069a-6575-446f-b08c-69236eb915ac
END:VEVENT
END:VCALENDAR
