BEGIN:VCALENDAR
PRODID:-//Session events Calendar//IBA//EN
CALSCALE:GREGORIAN
VERSION:2.0
BEGIN:VEVENT
DTSTAMP:20260425T164840Z
DTSTART:20240917T171500Z
DTEND:20240917T183000Z
SUMMARY:Sexual minorities\, refugees and migration
DESCRIPTION:The panel will cover issues such as: how to recognise LGBTQI+
  family units in the context of refugee status\, migration and family re
 unification\; the challenges involved in placement and housing of LGBTQI
 + refugees and migrants\; how to achieve positive integration outcomes f
 or LGBTQI+ refugees in the resettlement country\; and LGBTQI+ specific h
 ealthcare issues in the migration context\, including mental health issu
 es.\n\n
LOCATION:PALACIO DE CANAL 4\, LEVEL E1
UID:09eba6a6-3c48-4fb2-bcfd-6701c83a2054
END:VEVENT
END:VCALENDAR
