BEGIN:VCALENDAR
PRODID:-//Session events Calendar//IBA//EN
CALSCALE:GREGORIAN
VERSION:2.0
BEGIN:VEVENT
DTSTAMP:20260426T015812Z
DTSTART:20240917T221500Z
DTEND:20240917T233000Z
SUMMARY:Pitching for the world
DESCRIPTION:In today’s globalised world\, businesses and legal profession
 als often find themselves navigating complex legal landscapes across mul
 tiple jurisdictions. Join us for an illuminating session that delves int
 o the nuances and strategies of presenting effective pitches in diverse 
 legal environments. Whether you’re an international law practitioner\, a
  global business leader or a legal enthusiast\, this discussion is a mus
 t-attend event.
LOCATION:PALACIO DE INTURBIDE 2 + 3\, LEVEL E1
UID:db486e2d-9194-4c3d-b624-84d993be224f
END:VEVENT
END:VCALENDAR
