BEGIN:VCALENDAR
PRODID:-//Session events Calendar//IBA//EN
CALSCALE:GREGORIAN
VERSION:2.0
BEGIN:VEVENT
DTSTAMP:20260426T032502Z
DTSTART:20240917T221500Z
DTEND:20240917T233000Z
SUMMARY:Case study on FTX
DESCRIPTION:In-depth discussion of the FTX Insolvency. Creditor’s rights 
 and asset tracing issues. The panel will consist of professionals with f
 irst-hand knowledge about this restructuring.
LOCATION:CASA MONTEJO 1\, LEVEL S
UID:d03f1778-e693-4f50-b5e2-3489785be29a
END:VEVENT
END:VCALENDAR
