BEGIN:VCALENDAR
PRODID:-//Session events Calendar//IBA//EN
CALSCALE:GREGORIAN
VERSION:2.0
BEGIN:VEVENT
DTSTAMP:20260426T015233Z
DTSTART:20240917T203000Z
DTEND:20240917T214500Z
SUMMARY:To court or not to court\, ADR is the question
DESCRIPTION:This panel will involve a discussion around the pros and cons
  of using a variety of alternative dispute resolution mechanisms as oppo
 sed to court proceedings for addressing intellectual property (IP) dispu
 tes\, in particular patents\, copyright and trademark infringements.
LOCATION:PALACIO DE CANAL 8\, LEVEL E1
UID:e64f00ff-a618-42fc-bd4d-6d63c1ff92a3
END:VEVENT
END:VCALENDAR
