BEGIN:VCALENDAR
PRODID:-//Session events Calendar//IBA//EN
CALSCALE:GREGORIAN
VERSION:2.0
BEGIN:VEVENT
DTSTAMP:20260419T145112Z
DTSTART:20240916T203000Z
DTEND:20240916T214500Z
SUMMARY:Design\, bid\, build: contracts on trial
DESCRIPTION:Do design\, bid\, build (DBB) type contracts still deliver th
 e results promised?
LOCATION:CASA DEL DIEZMO 3\, LEVEL S
UID:8667b7a8-6548-4ef2-b7f9-4f7ca6010277
END:VEVENT
END:VCALENDAR
