BEGIN:VCALENDAR
PRODID:-//Session events Calendar//IBA//EN
CALSCALE:GREGORIAN
VERSION:2.0
BEGIN:VEVENT
DTSTAMP:20260426T015731Z
DTSTART:20240917T221500Z
DTEND:20240917T233000Z
SUMMARY:Risks and opportunities related to decarbonisation: the increase 
 of the importance of energy transition as investors prioritise environme
 ntal\, social and governance (ESG) factors
DESCRIPTION:Reaching net zero emissions by 2050 and giving the world a ch
 ance of limiting a global temperature rise of 1.5 degrees Celsius requir
 es a complete transformation of how we power our daily lives and the glo
 bal economy. In this panel\, we aim to analyse and discuss the energy tr
 ansition from fossil-based systems of energy production and consumption 
 to renewable energy sources\, the use of clean hydrogen and other low-em
 ission fuels\, regulatory framework\, technology developments\, financin
 g\, universal energy access and employment.
LOCATION:PALACIO DE VALPARAISO 1\, LEVEL E1
UID:d92c710c-c79c-4c33-98f3-1241bab5dc7b
END:VEVENT
END:VCALENDAR
