BEGIN:VCALENDAR
PRODID:-//Session events Calendar//IBA//EN
CALSCALE:GREGORIAN
VERSION:2.0
BEGIN:VEVENT
DTSTAMP:20260424T194032Z
DTSTART:20240918T171500Z
DTEND:20240918T183000Z
SUMMARY:A new Hague convention on jurisdiction and parallel claims: a gam
 echanger in international dispute resolution 
DESCRIPTION:This session will give a perspective on the work of the Hague
  Conference’s jurisdiction project which\, following the success of the 
 Choice of Courts Convention and the Judgments Convention\, is now workin
 g on a new instrument on parallel proceedings. We will examine the poten
 tial impact of any new convention in the context of growing jurisdiction
 al protectionism.
LOCATION:PALACIO DE INTURBIDE 2 + 3\, LEVEL E1
UID:ca38a6aa-b495-4056-a780-35ebec78180c
END:VEVENT
END:VCALENDAR
