BEGIN:VCALENDAR
PRODID:-//Session events Calendar//IBA//EN
CALSCALE:GREGORIAN
VERSION:2.0
BEGIN:VEVENT
DTSTAMP:20260426T015716Z
DTSTART:20240917T221500Z
DTEND:20240917T233000Z
SUMMARY:Mining and geopolitics: complexities around the world
DESCRIPTION:This panel will discuss the challenges mining companies face 
 around the world as a consequence of increasing political instability an
 d competing strategic interests among different jurisdictions worldwide.
 
LOCATION:PALACIO DE CANAL 3\, LEVEL E1
UID:05d3ee8e-865d-4779-bdbe-2301ee752f56
END:VEVENT
END:VCALENDAR
