BEGIN:VCALENDAR
PRODID:-//Session events Calendar//IBA//EN
CALSCALE:GREGORIAN
VERSION:2.0
BEGIN:VEVENT
DTSTAMP:20260421T184747Z
DTSTART:20240919T221500Z
DTEND:20240919T233000Z
SUMMARY:Nearshoring in Mexico: is this Asia’s new outpost in North Americ
 a\, is it becoming indispensable to the supply chain and your clients\, 
 and what will it mean for lawyers and clients?
DESCRIPTION:The session will explore the new shift in business and supply
  chains from globalisation to regionalisation\, the phenomenon known as 
 nearshoring. Panelists from North-America will comment on aspects of thi
 s shift to regionalisation\, examine various legal and practical issues 
 presented by nearshoring\, particularly as they relate to North America\
 , and provide insights on the role of lawyers in connection with those i
 ssues.
LOCATION:PALACIO DE CANAL 10\, LEVEL E1
UID:c645e2d6-eca5-40af-a98f-324a75d292ff
END:VEVENT
END:VCALENDAR
