BEGIN:VCALENDAR
PRODID:-//Session events Calendar//IBA//EN
CALSCALE:GREGORIAN
VERSION:2.0
BEGIN:VEVENT
DTSTAMP:20260425T133333Z
DTSTART:20240411T080000Z
DTEND:20240411T090000Z
SUMMARY:Trends and hot topics in real estate
DESCRIPTION:Join us for a lively\, interactive debate about recent and ho
 t topics and trends in the real estate markets. Topics will include:\n• 
 Social media and real estate\n• Smart use of AI by real estate lawyers: 
 efficiency\, quality of results\, confidentiality\n• Real estate and mon
 ey laundering\n• Major issue causing concern in the real estate industry
  in 2024\n• Trends in leisure industry\n• Offices: worldwide trends\n• R
 estrictions on foreign real estate ownership: how liberal is your county
 ?\n• Private ownership in real estate: direct or indirect holding?\n
LOCATION:
UID:d5e3f1d5-b3a3-4775-a4eb-3b0edfd1633c
END:VEVENT
END:VCALENDAR
