BEGIN:VCALENDAR
PRODID:-//Session events Calendar//IBA//EN
CALSCALE:GREGORIAN
VERSION:2.0
BEGIN:VEVENT
DTSTAMP:20260425T133333Z
DTSTART:20240411T090000Z
DTEND:20240411T101000Z
SUMMARY:Plan your future – how will real estate develop in the next 30 ye
 ars. Look into the future of real estate with Teo Nicolais from Harvard 
 University
DESCRIPTION:
LOCATION:
UID:6d2d6af1-c852-49ff-ad25-8cf841898259
END:VEVENT
END:VCALENDAR
