BEGIN:VCALENDAR
PRODID:-//Session events Calendar//IBA//EN
CALSCALE:GREGORIAN
VERSION:2.0
BEGIN:VEVENT
DTSTAMP:20260425T134937Z
DTSTART:20240411T101000Z
DTEND:20240411T103000Z
SUMMARY:Coffee/tea break
DESCRIPTION:
LOCATION:
UID:98d361e6-95f7-4bb3-8367-4ca5bc8bacca
END:VEVENT
END:VCALENDAR
