BEGIN:VCALENDAR
PRODID:-//Session events Calendar//IBA//EN
CALSCALE:GREGORIAN
VERSION:2.0
BEGIN:VEVENT
DTSTAMP:20260425T132835Z
DTSTART:20240411T103000Z
DTEND:20240411T111500Z
SUMMARY:Reduction of emissions: impact on real estate projects – how to a
 dapt to new rules
DESCRIPTION:Real estate plays a massive role in global warming: 40 per ce
 nt of emissions originate from real estate\, either from building materi
 als or from building energy consumption. There is no fighting climate ch
 ange without reducing environmental damages caused by real estate. A pan
 el of experts will look at how the new rules will impact real estate pro
 jects.\n
LOCATION:
UID:69a6d69a-393e-4396-921e-45a09779b951
END:VEVENT
END:VCALENDAR
