BEGIN:VCALENDAR
PRODID:-//Session events Calendar//IBA//EN
CALSCALE:GREGORIAN
VERSION:2.0
BEGIN:VEVENT
DTSTAMP:20260425T133252Z
DTSTART:20240411T111500Z
DTEND:20240411T120000Z
SUMMARY:Digital nomads: are they reshaping the residential and the office
  real estate business?
DESCRIPTION:The post-pandemic work-from-anywhere culture has a clear impa
 ct in residential and office real estate sectors. More and more people c
 hoose to work remotely\, from home\, from co-working spaces and even abr
 oad. A panel of experts will debate the opportunities and challenges pre
 sented by this considerable change.\n
LOCATION:
UID:0696136e-a7d1-4ec2-a3e1-4d75c5f587ad
END:VEVENT
END:VCALENDAR
