BEGIN:VCALENDAR
PRODID:-//Session events Calendar//IBA//EN
CALSCALE:GREGORIAN
VERSION:2.0
BEGIN:VEVENT
DTSTAMP:20260425T133333Z
DTSTART:20240411T120000Z
DTEND:20240411T133000Z
SUMMARY:Lunch - Keynote address: what about Portugal? Overview of Portugu
 ese real estate market trends and opportunities
DESCRIPTION:
LOCATION:
UID:6cf57a10-e9fc-4705-8b22-60b08535ebbf
END:VEVENT
END:VCALENDAR
