BEGIN:VCALENDAR
PRODID:-//Session events Calendar//IBA//EN
CALSCALE:GREGORIAN
VERSION:2.0
BEGIN:VEVENT
DTSTAMP:20260425T133339Z
DTSTART:20240411T140000Z
DTEND:20240411T144500Z
SUMMARY:Real estate economics and finance: what really is driving the rea
 l estate market
DESCRIPTION:Interview with a forethinking keynote speaker about the Real 
 Estate market and its financing.\n
LOCATION:
UID:46835a3a-ccea-442b-a5f4-989a7910a1f6
END:VEVENT
END:VCALENDAR
