BEGIN:VCALENDAR
PRODID:-//Session events Calendar//IBA//EN
CALSCALE:GREGORIAN
VERSION:2.0
BEGIN:VEVENT
DTSTAMP:20260425T132835Z
DTSTART:20240411T144500Z
DTEND:20240411T151500Z
SUMMARY:Coffee/tea break
DESCRIPTION:
LOCATION:
UID:27c86b19-a504-4b9a-8569-f350617e1739
END:VEVENT
END:VCALENDAR
