BEGIN:VCALENDAR
PRODID:-//Session events Calendar//IBA//EN
CALSCALE:GREGORIAN
VERSION:2.0
BEGIN:VEVENT
DTSTAMP:20260425T133333Z
DTSTART:20240411T151500Z
DTEND:20240411T160000Z
SUMMARY:Building for the middle classes: the housing crisis and how to ad
 dress it
DESCRIPTION:
LOCATION:
UID:58da6241-f40b-4424-a396-dd12165fc3d3
END:VEVENT
END:VCALENDAR
