BEGIN:VCALENDAR
PRODID:-//Session events Calendar//IBA//EN
CALSCALE:GREGORIAN
VERSION:2.0
BEGIN:VEVENT
DTSTAMP:20260425T132925Z
DTSTART:20240411T160000Z
DTEND:20240411T164500Z
SUMMARY:Renaissance of shopping centres – current trends and developments
 
DESCRIPTION:Post-Covid-19 shopping centres and malls are packed with peop
 le. Despite many economic challenges\, the retail industry seems to be e
 ntering a new renaissance area. This panel will discuss current trends a
 nd developments and give insight into how shopping centres adapted to cu
 stomer needs and expectations.\n
LOCATION:
UID:12b9e70a-6137-42a4-9c2e-b3d1f2b532d8
END:VEVENT
END:VCALENDAR
