BEGIN:VCALENDAR
PRODID:-//Session events Calendar//IBA//EN
CALSCALE:GREGORIAN
VERSION:2.0
BEGIN:VEVENT
DTSTAMP:20260425T133339Z
DTSTART:20240412T074500Z
DTEND:20240412T080000Z
SUMMARY:Opening remarks
DESCRIPTION:
LOCATION:
UID:445c0666-b2a6-4a88-915e-5f6f11a654da
END:VEVENT
END:VCALENDAR
