BEGIN:VCALENDAR
PRODID:-//Session events Calendar//IBA//EN
CALSCALE:GREGORIAN
VERSION:2.0
BEGIN:VEVENT
DTSTAMP:20260425T133339Z
DTSTART:20240412T080000Z
DTEND:20240412T084500Z
SUMMARY:How design is responding to the toughest challenges facing cities
 
DESCRIPTION:
LOCATION:
UID:6b3dd312-7c11-470b-9c80-65e5b3df4c65
END:VEVENT
END:VCALENDAR
