BEGIN:VCALENDAR
PRODID:-//Session events Calendar//IBA//EN
CALSCALE:GREGORIAN
VERSION:2.0
BEGIN:VEVENT
DTSTAMP:20260425T132835Z
DTSTART:20240412T093000Z
DTEND:20240412T100000Z
SUMMARY:Coffee/tea break
DESCRIPTION:
LOCATION:
UID:62ad468f-7d7e-42bf-8c37-11c312245e8b
END:VEVENT
END:VCALENDAR
