BEGIN:VCALENDAR
PRODID:-//Session events Calendar//IBA//EN
CALSCALE:GREGORIAN
VERSION:2.0
BEGIN:VEVENT
DTSTAMP:20260425T132835Z
DTSTART:20240412T100000Z
DTEND:20240412T104500Z
SUMMARY:Picking up the pieces: real estate redevelopment after disaster s
 trikes
DESCRIPTION:Conflict and natural events may sadly cause considerable dest
 ruction. When the recovery process begins\, the aim is to build back bet
 ter. This panel will debate reconstruction strategies and how authoritie
 s and real estate players will have an important role in the process.\n
LOCATION:
UID:5817b4d2-44b2-4d9f-9544-7c0ce27d06c9
END:VEVENT
END:VCALENDAR
