BEGIN:VCALENDAR
PRODID:-//Session events Calendar//IBA//EN
CALSCALE:GREGORIAN
VERSION:2.0
BEGIN:VEVENT
DTSTAMP:20260425T123739Z
DTSTART:20240412T113000Z
DTEND:20240412T114500Z
SUMMARY:Closing remarks from the Conference Co-Chairs
DESCRIPTION:
LOCATION:
UID:ab74a348-f7a8-4593-ac81-3d82196b5ff9
END:VEVENT
END:VCALENDAR
