BEGIN:VCALENDAR
PRODID:-//Session events Calendar//IBA//EN
CALSCALE:GREGORIAN
VERSION:2.0
BEGIN:VEVENT
DTSTAMP:20260425T123740Z
DTSTART:20240412T114500Z
DTEND:20240412T130000Z
SUMMARY:Lunch
DESCRIPTION:
LOCATION:
UID:777399a2-a8b3-4fa8-8061-4a6459308e3d
END:VEVENT
END:VCALENDAR
