BEGIN:VCALENDAR
PRODID:-//Session events Calendar//IBA//EN
CALSCALE:GREGORIAN
VERSION:2.0
BEGIN:VEVENT
DTSTAMP:20260425T132835Z
DTSTART:20240411T074500Z
DTEND:20240411T080000Z
SUMMARY:Welcome and opening remarks from the Conference Co-Chairs
DESCRIPTION:
LOCATION:
UID:48c5a617-52dd-495d-a883-36ce5ba92d38
END:VEVENT
END:VCALENDAR
