BEGIN:VCALENDAR
PRODID:-//Session events Calendar//IBA//EN
CALSCALE:GREGORIAN
VERSION:2.0
BEGIN:VEVENT
DTSTAMP:20260425T123740Z
DTSTART:20240412T130000Z
DTEND:20240412T160000Z
SUMMARY:Real estate property tour
DESCRIPTION:
LOCATION:
UID:c0237d48-ab61-4c64-b7e8-474c0753d975
END:VEVENT
END:VCALENDAR
