BEGIN:VCALENDAR
PRODID:-//Session events Calendar//IBA//EN
CALSCALE:GREGORIAN
VERSION:2.0
BEGIN:VEVENT
DTSTAMP:20260425T132835Z
DTSTART:20240411T060000Z
DTEND:20240411T070000Z
SUMMARY:Real Estate Section running tour
DESCRIPTION:Join the officers of the IBA Real Estate Section and colleagu
 es for a light jog or a refreshing walk. This run is free to attend. Mee
 t in the main hotel lobby at 0655.\n
LOCATION:
UID:b16eca8e-04bf-4404-a9cc-d90d6a5b5dcf
END:VEVENT
END:VCALENDAR
