BEGIN:VCALENDAR
PRODID:-//Session events Calendar//IBA//EN
CALSCALE:GREGORIAN
VERSION:2.0
BEGIN:VEVENT
DTSTAMP:20260421T203317Z
DTSTART:20240509T070500Z
DTEND:20240509T073500Z
SUMMARY:Keynote address
DESCRIPTION:
LOCATION:
UID:5f2a3ce0-41a7-4132-8a94-445bbdbabf4c
END:VEVENT
END:VCALENDAR
