BEGIN:VCALENDAR
PRODID:-//Session events Calendar//IBA//EN
CALSCALE:GREGORIAN
VERSION:2.0
BEGIN:VEVENT
DTSTAMP:20260421T203235Z
DTSTART:20240509T085000Z
DTEND:20240509T091000Z
SUMMARY:Coffee/tea break 
DESCRIPTION:
LOCATION:
UID:0d2c3ccb-29b9-440f-9d9a-97322c3724e6
END:VEVENT
END:VCALENDAR
