BEGIN:VCALENDAR
PRODID:-//Session events Calendar//IBA//EN
CALSCALE:GREGORIAN
VERSION:2.0
BEGIN:VEVENT
DTSTAMP:20260421T222503Z
DTSTART:20240509T091000Z
DTEND:20240509T102500Z
SUMMARY:International criminal law issues arising from the Ukraine crisis
 
DESCRIPTION:Following two years of the conflict in the Ukraine\, this pan
 el will look at the various international criminal law issues that have 
 arisen so far and will be coming down the track. The panel will consider
  the impact in various jurisdictions looking at matters of extradition\,
  Interpol red notices\, asset freezes\, civil recovery/confiscation\, sa
 nctions de-listing applications and other future white-collar matters\, 
 such as post conflict corruption issues in winning project contracts thr
 ough public procurement.\n
LOCATION:
UID:52016c76-0a63-40dd-a9a9-a800526662a7
END:VEVENT
END:VCALENDAR
