BEGIN:VCALENDAR
PRODID:-//Session events Calendar//IBA//EN
CALSCALE:GREGORIAN
VERSION:2.0
BEGIN:VEVENT
DTSTAMP:20260421T203233Z
DTSTART:20240509T102500Z
DTEND:20240509T112500Z
SUMMARY:Lunch
DESCRIPTION:
LOCATION:
UID:f0eda66d-be8b-4a3f-9a2a-ee8da0b22e0d
END:VEVENT
END:VCALENDAR
