BEGIN:VCALENDAR
PRODID:-//Session events Calendar//IBA//EN
CALSCALE:GREGORIAN
VERSION:2.0
BEGIN:VEVENT
DTSTAMP:20260421T203234Z
DTSTART:20240509T112500Z
DTEND:20240509T124000Z
SUMMARY:Negotiations of DPAs\, dos and don’ts
DESCRIPTION:The panellists will discuss the dos and don'ts when negotiati
 ng Deferred Prosecution Agreements (DPAs) with enforcement authorities\,
  in particular: differences and common points between DPAs in the France
 \, the US and theUK\; how to deal when enforcement authorities of differ
 ent countries investigate the same facts\; and what are the current alte
 rnatives to DPAs in Italy and Switzerland? Is there a need to introduce 
 DPAs in those two countries?\n
LOCATION:
UID:a22c77cd-5e5f-4a06-b62c-66c0cdaca35d
END:VEVENT
END:VCALENDAR
